BEGIN:VCALENDAR
VERSION:2.0
PRODID:-//Yii2 Events//EN
BEGIN:VEVENT
UID:69e606361d6df@eventure.si
DTSTAMP:20260420T105550Z
DTSTART:20251010T200000
DTEND:20251010T220000
SUMMARY:Obred z rdečo mušnico
DESCRIPTION:Vabljeni na obred z Rdečo mušnico 10.10.2025 ob 20.00 v Mengšu. Spoznajte magične gobe in starodavne tehnike.
LOCATION:Mengeš\, Slovenia
URL:https://eventure.si/hr/event/obred-z-rdeco-musnico
END:VEVENT
END:VCALENDAR
