BEGIN:VCALENDAR
VERSION:2.0
PRODID:-//Yii2 Events//EN
BEGIN:VEVENT
UID:69e897307715f@eventure.si
DTSTAMP:20260422T093856Z
DTSTART:20260328T090000
DTEND:20260328T100000
SUMMARY:Nabiralništvo
DESCRIPTION:Sprehod v gmajno\, kjer bomo tokrat našli čemaž\, koprive\, divji hmelj\, regrat in vse ostalo\, kar trenutno rine iz zemlje. 
LOCATION:MC Žalec\, MC Hotel Žalec
URL:https://eventure.si/sl/event/nabiralnistvo
END:VEVENT
END:VCALENDAR
