BEGIN:VCALENDAR
VERSION:2.0
PRODID:-//Yii2 Events//EN
BEGIN:VEVENT
UID:69e602748cf73@eventure.si
DTSTAMP:20260420T103948Z
DTSTART:20250525T180000
DTEND:20250525T190000
SUMMARY:RAZGIBANICA 💪🧘‍♀️
DESCRIPTION:Pridruži se edinstvenemu dogodku RAZGIBANICA\, kjer živa glasba in svoboden ples ustvarjata prostor za izražanje. Odkrij svoj naravni gib in uživaj v energiji skupnosti brez predsodkov. Ples\, glasba in življenjski trenutki te čakajo!
LOCATION:MC Žalec\, Slovenia
URL:https://eventure.si/sl/event/razgibanica
END:VEVENT
END:VCALENDAR
